BEGIN:VCALENDAR
VERSION:2.0
PRODID:-//ChamberMaster//Event Calendar 2.0//EN
METHOD:PUBLISH
X-PUBLISHED-TTL:P3D
REFRESH-INTERVAL:P3D
CALSCALE:GREGORIAN
BEGIN:VEVENT
DTSTART;VALUE=DATE:20210301
DTEND;VALUE=DATE:20210401
TRANSP:TRANSPARENT
X-MICROSOFT-CDO-ALLDAYEVENT:TRUE
SUMMARY:Virtual 5K Sweet Run
DESCRIPTION:STJDA 8th Annual Sweet Run benefits families of children living with diabetes.  We're so excited about this event. Our goal is to support children living with diabetes and their families through this virtual event.\n\n\n\nDetails:\n\nThere are 4 challenges to choose from: 3 miles\, 5 miles\, 10 miles and 15+ miles to be completed any time between March 1st to March 31st\, so aim high since you have the whole month to complete your distance goal! We know you can do it! You can choose to run locally\, the route is up to you\, you can even choose a treadmill or run at the gym (Remember to track your mileage!).\n\n\n\nEveryone who signs up will receive a unique Finisher Medal and Custom t-shirt.\n\n\n\nHelp spread the word and raise awareness through social media! Please share this page with friends and family\, and DON'T forget to share your ride photos on Instagram and Facebook by tagging us and using the following hashtag #STJDAsweetrun.\n\n\n\nCreate a team - https://stjda.kindful.com/sweet-run-teams-2021\n\nRaise more awareness and support the South Texas Juvenile Diabetes Association's cause of serving children living with diabetes in the RGV!\n\nCrowdfunding allows you to share your story and collect donations directly through your social media platforms. When you create a fundraiser\, contributions show up in real-time and count towards your fundraising goal.\n\n\n\nFundraising Goal Prizes:\n\n$ Goal Prize\n\n$250 Amazon Gift Card $20\n\n$500 Amazon Gift Card $35\n\n$1\,000 Amazon Gift Card $100\n\n$2\,500 Amazon Gift Card $250\n\n$5\,000 Amazon Gift Card $400\n\n$10\,000 Amazon Gift Card $500\n\n\n\nShare a common goal through an extraordinary experience. All funds go to support the programs that help children living with diabetes.\n\nHow to Get Started:\n\n1. Register - After registering and purchasing your ticket\, go to https://stjda.kindful.com/sweet-run-teams-2021 and start a fundraising page and pick a team name.\n\n2. Set your team fundraising goal - Setting a goal will motivate your team to work toward your goal.\n\n3. Recruit - Recruit your team (family members\, friends\, and colleagues) and fundraise to change the world for those children living with diabetes and unite for a common goal.\n\nIf you are not much for running and you would still like to donate to The South Texas Juvenile Diabetes Association\, please head to the donate page of our website: https://www.stjda.org/donate\n\n \n\nInformation on our organization:\n\nAt South Texas Juvenile Diabetes Association\, we're all about our families of children living with diabetes\; we wouldn't be who we are or where we are without our passionate team and community. So\, at this time of unrest\, we want to partner with you so that we can continue this vital work in our community.\n\nWe know that non-profits are the pillars of many communities. Support a non-profit through this Virtual Sweet Run event.\n\n\n\nMore about STJDA: STJDA was founded in 2011 by a group of parents with the aim of providing support to other families like theirs\, whose children were living with Type 1 diabetes. Over the years\, STJDA has continually adapted to the changing needs of the children and families they serve\, including the growing number of children in the Rio Grande Valley who are living with Type 2 diabetes.\n\n\n\nSTJDA carries out its mission through a variety of programs and services\, led by a volunteer board of directors that sets the organization's goals and promotes its work across the Rio Grande Valley. These services include Camp Freedom summer camp experiences\, the school-based Stomp Out Diabetes education and\, prevention campaign\, our signature Shot Spots Bears distributed at all Valley hospitals to newly-diagnosed children\, Coffee Connections parent support group gatherings\, specialized Family Food Pantry in McAllen and Weslaco\, and our annual Sweet Run 5K fun run and walk.\n\n\n\nThese services are intended to assist with and improve the circumstances of those who receive them\, to help its community thrive\, to upskill\, to broaden their knowledge\, to network and learn from one another. Find out more at www.stjda.org
X-ALT-DESC;FMTTYPE=text/html:<div style="background:rgb(250\, 250\, 250)\; border:0px\; padding:0px">STJDA 8th Annual Sweet Run benefits families of children living with diabetes.&nbsp\; We&rsquo\;re so excited about this event. Our goal is to support children living with diabetes and their families through this virtual event.</div>\n\n<div style="background:rgb(250\, 250\, 250)\; border:0px\; padding:0px"><br />\nDetails:<br />\nThere are 4 challenges to choose from: 3 miles\, 5 miles\, 10 miles and 15+ miles to be completed any time between March 1st to March 31st\, so aim high since you have the whole month to complete your distance goal! We know you can do it! You can choose to run locally\, the route is up to you\, you can even choose a treadmill or run at the gym (Remember to track your mileage!).<br />\n<br />\nEveryone who signs up will receive a unique Finisher Medal and Custom t-shirt.<br />\n<br />\nHelp spread the word and raise awareness through social media! Please share this page with friends and family\, and DON&#39\;T forget to share your ride photos on Instagram and Facebook by tagging us and using the following hashtag&nbsp\;<a class="oajrlxb2 g5ia77u1 qu0x051f esr5mh6w e9989ue4 r7d6kgcz rq0escxv nhd2j8a9 nc684nl6 p7hjln8o kvgmc6g5 cxmmr5t8 oygrvhab hcukyx3x jb3vyjys rz4wbd8a qt6c0cv9 a8nywdso i1ao9s8h esuyzwwr f1sip0of lzcic4wl oo9gr5id gpro0wi8 lrazzd5p" href="https://www.facebook.com/hashtag/stjdasweetrun?__eep__=6&amp\;__cft__[0]=AZUkUlGvBlOgBnh1THjH9d__DzMYLmrHGvqp3haa4eAw2PXVei8Mla9IjtjADvgLN7Yk_tyeedzRmICPknpBljQUqvNuN4O5uzr6FSPaBb_k3A&amp\;__tn__=q" style="outline: none\; margin: 0px\; padding: 0px\; border: 0px\; vertical-align: baseline\; background: transparent\; text-decoration-line: none\; color: var(--primary-text)\; cursor: pointer\; list-style: none\; touch-action: manipulation\; text-align: inherit\; font-weight: 600\; display: inline\; -webkit-tap-highlight-color: transparent\; box-sizing: border-box\; font-family: inherit\;" tabindex="0">#STJDAsweetrun</a>.<br />\n<br />\nCreate a team -&nbsp\;<a class="oajrlxb2 g5ia77u1 qu0x051f esr5mh6w e9989ue4 r7d6kgcz rq0escxv nhd2j8a9 nc684nl6 p7hjln8o kvgmc6g5 cxmmr5t8 oygrvhab hcukyx3x jb3vyjys rz4wbd8a qt6c0cv9 a8nywdso i1ao9s8h esuyzwwr f1sip0of lzcic4wl py34i1dx gpro0wi8" href="https://l.facebook.com/l.php?u=https%3A%2F%2Fstjda.kindful.com%2Fsweet-run-teams-2021%3Ffbclid%3DIwAR3pxdYo94L6BBA5CQpDt42qGmnmcVbANh4zPLsCi2hSxyC8TR4YGq4FzV0&amp\;h=AT1kXUGVlakxPUhvRebjPXXI4WWehuhI1jzw0DNY68j1uZLTsufvn_7k5_821FH9zID-MA2CCWP6mA6vQxJK86gfurUHJlRE5adaUUPnBnfOB0yOsv3uoWrS3qbMJVrjr-1qDLwaeg1xa9V-p87q&amp\;__tn__=q&amp\;c[0]=AT3YCBRdgy83B7eZ8D3j_7Cq1MONKeCSF3ydZCXe_bsGV1hXhQPdQg2Ex4jhJC1brASFkHOOrVnEdY4f-ynRWEugXvzgwlnqDH83dZ1VRX0FJPpOK4L5_LODpksC9kQk6UQ" rel="nofollow noopener" style="outline: none\; margin: 0px\; padding: 0px\; border: 0px\; vertical-align: baseline\; background: transparent\; text-decoration-line: none\; color: var(--blue-link)\; cursor: pointer\; list-style: none\; touch-action: manipulation\; text-align: inherit\; display: inline\; -webkit-tap-highlight-color: transparent\; box-sizing: border-box\; font-family: inherit\;" tabindex="0" target="_blank">https://stjda.kindful.com/sweet-run-teams-2021</a><br />\nRaise more awareness and support the South Texas Juvenile Diabetes Association&#39\;s cause of serving children living with diabetes in the RGV!<br />\nCrowdfunding allows you to share your story and collect donations directly through your social media platforms. When you create a fundraiser\, contributions show up in real-time and count towards your fundraising goal.<br />\n<br />\nFundraising Goal Prizes:<br />\n$ Goal Prize<br />\n$250 Amazon Gift Card $20<br />\n$500 Amazon Gift Card $35<br />\n$1\,000 Amazon Gift Card $100<br />\n$2\,500 Amazon Gift Card $250<br />\n$5\,000 Amazon Gift Card $400<br />\n$10\,000 Amazon Gift Card $500<br />\n<br />\nShare a common goal through an extraordinary experience. All funds go to support the programs that help children living with diabetes.<br />\nHow to Get Started:<br />\n1. Register - After registering and purchasing your ticket\, go to&nbsp\;<a class="oajrlxb2 g5ia77u1 qu0x051f esr5mh6w e9989ue4 r7d6kgcz rq0escxv nhd2j8a9 nc684nl6 p7hjln8o kvgmc6g5 cxmmr5t8 oygrvhab hcukyx3x jb3vyjys rz4wbd8a qt6c0cv9 a8nywdso i1ao9s8h esuyzwwr f1sip0of lzcic4wl py34i1dx gpro0wi8" href="https://l.facebook.com/l.php?u=https%3A%2F%2Fstjda.kindful.com%2Fsweet-run-teams-2021%3Ffbclid%3DIwAR3H5vmzBk1Q7uzj_t9UaO52HNSzHUEmFqLt4Z3J9VvtKat5jpmcRmQkBes&amp\;h=AT1kXUGVlakxPUhvRebjPXXI4WWehuhI1jzw0DNY68j1uZLTsufvn_7k5_821FH9zID-MA2CCWP6mA6vQxJK86gfurUHJlRE5adaUUPnBnfOB0yOsv3uoWrS3qbMJVrjr-1qDLwaeg1xa9V-p87q&amp\;__tn__=q&amp\;c[0]=AT3YCBRdgy83B7eZ8D3j_7Cq1MONKeCSF3ydZCXe_bsGV1hXhQPdQg2Ex4jhJC1brASFkHOOrVnEdY4f-ynRWEugXvzgwlnqDH83dZ1VRX0FJPpOK4L5_LODpksC9kQk6UQ" rel="nofollow noopener" style="outline: none\; margin: 0px\; padding: 0px\; border: 0px\; vertical-align: baseline\; background: transparent\; text-decoration-line: none\; color: var(--blue-link)\; cursor: pointer\; list-style: none\; touch-action: manipulation\; text-align: inherit\; display: inline\; -webkit-tap-highlight-color: transparent\; box-sizing: border-box\; font-family: inherit\;" tabindex="0" target="_blank">https://stjda.kindful.com/sweet-run-teams-2021</a>&nbsp\;and start a fundraising page and pick a team name.<br />\n2. Set your team fundraising goal - Setting a goal will motivate your team to work toward your goal.<br />\n3. Recruit - Recruit your team (family members\, friends\, and colleagues) and fundraise to change the world for those children living with diabetes and unite for a common goal.<br />\nIf you are not much for running and you would still like to donate to The South Texas Juvenile Diabetes Association\, please head to the donate page of our website:&nbsp\;<a class="oajrlxb2 g5ia77u1 qu0x051f esr5mh6w e9989ue4 r7d6kgcz rq0escxv nhd2j8a9 nc684nl6 p7hjln8o kvgmc6g5 cxmmr5t8 oygrvhab hcukyx3x jb3vyjys rz4wbd8a qt6c0cv9 a8nywdso i1ao9s8h esuyzwwr f1sip0of lzcic4wl py34i1dx gpro0wi8" href="https://www.stjda.org/donate?fbclid=IwAR25YmyeaL_Z8rrg834hjcpj4OnZeB3wz9bboOURBy1aAMYDtPwriJ-4DxU" rel="nofollow noopener" style="outline: none\; margin: 0px\; padding: 0px\; border: 0px\; vertical-align: baseline\; background: transparent\; text-decoration-line: none\; color: var(--blue-link)\; cursor: pointer\; list-style: none\; touch-action: manipulation\; text-align: inherit\; display: inline\; -webkit-tap-highlight-color: transparent\; box-sizing: border-box\; font-family: inherit\;" tabindex="0" target="_blank">https://www.stjda.org/donate</a></div>\n\n<div style="background:rgb(250\, 250\, 250)\; border:0px\; padding:0px">&nbsp\;</div>\n\n<div style="background:rgb(250\, 250\, 250)\; border:0px\; padding:0px">Information on our organization:<br />\nAt South Texas Juvenile Diabetes Association\, we&rsquo\;re all about our families of children living with diabetes\; we wouldn&rsquo\;t be who we are or where we are without our passionate team and community. So\, at this time of unrest\, we want to partner with you so that we can continue this vital work in our community.<br />\nWe know that non-profits are the pillars of many communities. Support a non-profit through this Virtual Sweet Run event.<br />\n<br />\nMore about STJDA: STJDA was founded in 2011 by a group of parents with the aim of providing support to other families like theirs\, whose children were living with Type 1 diabetes. Over the years\, STJDA has continually adapted to the changing needs of the children and families they serve\, including the growing number of children in the Rio Grande Valley who are living with Type 2 diabetes.<br />\n<br />\nSTJDA carries out its mission through a variety of programs and services\, led by a volunteer board of directors that sets the organization&rsquo\;s goals and promotes its work across the Rio Grande Valley. These services include Camp Freedom summer camp experiences\, the school-based Stomp Out Diabetes education and\, prevention campaign\, our signature Shot Spots Bears distributed at all Valley hospitals to newly-diagnosed children\, Coffee Connections parent support group gatherings\, specialized Family Food Pantry in McAllen and Weslaco\, and our annual Sweet Run 5K fun run and walk.<br />\n<br />\nThese services are intended to assist with and improve the circumstances of those who receive them\, to help its community thrive\, to upskill\, to broaden their knowledge\, to network and learn from one another. Find out more at&nbsp\;<a class="oajrlxb2 g5ia77u1 qu0x051f esr5mh6w e9989ue4 r7d6kgcz rq0escxv nhd2j8a9 nc684nl6 p7hjln8o kvgmc6g5 cxmmr5t8 oygrvhab hcukyx3x jb3vyjys rz4wbd8a qt6c0cv9 a8nywdso i1ao9s8h esuyzwwr f1sip0of lzcic4wl py34i1dx gpro0wi8" href="http://www.stjda.org/?fbclid=IwAR1OMVNW3sVNU0xJv1s_pqFOCZgXOQbDbouSIDpLxyadi8aumXPyftxNTaE" rel="nofollow noopener" style="outline: none\; margin: 0px\; padding: 0px\; border: 0px\; vertical-align: baseline\; background: transparent\; text-decoration-line: none\; color: var(--blue-link)\; cursor: pointer\; list-style: none\; touch-action: manipulation\; text-align: inherit\; display: inline\; -webkit-tap-highlight-color: transparent\; box-sizing: border-box\; font-family: inherit\;" tabindex="0" target="_blank">www.stjda.org</a></div>\n
LOCATION:
UID:e.1828.16292
SEQUENCE:3
DTSTAMP:20260420T002321Z
URL:https://harlingen-nexam-gzcms.preview.gochambermaster.com/events/details/virtual-5k-sweet-run-16292
END:VEVENT

END:VCALENDAR
