BEGIN:VCALENDAR
VERSION:2.0
PRODID:-//ChamberMaster//Event Calendar 2.0//EN
METHOD:PUBLISH
X-PUBLISHED-TTL:P3D
REFRESH-INTERVAL:P3D
CALSCALE:GREGORIAN
BEGIN:VEVENT
DTSTART:20200129T140000Z
DTEND:20200129T213000Z
X-MICROSOFT-CDO-ALLDAYEVENT:FALSE
SUMMARY:The Future of Healthcare by The Texas Tribune
DESCRIPTION:Come hear from lawmakers\, thought leaders and medical professionals on issues related to healthcare\, including how to address skyrocketing health care costs\, healthcare education\, technology and more. This event is free\, open to the public and includes a light breakfast and lunch. Find more details at texastribune.org/events.
X-ALT-DESC;FMTTYPE=text/html:Come hear from lawmakers\, thought leaders and medical professionals on issues related to healthcare\, including how to address skyrocketing health care costs\, healthcare education\, technology and more. This event is free\, open to the public and includes a light breakfast and lunch. Find more details at texastribune.org/events.
LOCATION:Edinburg Conference Center at Renaissance 118 Paseo Del Prado Edinburg\, TX 78539
UID:e.1828.16235
SEQUENCE:3
DTSTAMP:20260422T221210Z
URL:https://harlingen-nexam-gzcms.preview.gochambermaster.com/events/details/the-future-of-healthcare-by-the-texas-tribune-16235
END:VEVENT

END:VCALENDAR
