BEGIN:VCALENDAR
VERSION:2.0
PRODID:-//ChamberMaster//Event Calendar 2.0//EN
METHOD:PUBLISH
X-PUBLISHED-TTL:P3D
REFRESH-INTERVAL:P3D
CALSCALE:GREGORIAN
BEGIN:VEVENT
DTSTART:20190814T140000Z
DTEND:20190815T200000Z
X-MICROSOFT-CDO-ALLDAYEVENT:FALSE
SUMMARY:SOG International-2 Day Career Fair hosted by the Harlingen Chamber of Commerce
DESCRIPTION:450 JOB OPPORTUNITIES!\n\nThe Harlingen Area Chamber of Commerce is hosting a TWO DAY Career Fair\, Wednesday & Thursday\, August 14th & 15th from 9am-3pm!\n\nThe event will take place at the Harlingen Chamber-311 E. Tyler Avenue-Harlingen. Come interview ready!\n\n\nPARAPROFESSIONALS\n\nMEDICAL ASSISTANTS\n\nYOUTH CARE WORKERS\n\nAND MUCH MORE!!!\n\nFor more info contact the Chamber at 956.423.5440!
X-ALT-DESC;FMTTYPE=text/html:<p style="margin: 0px 0px 6px\; font-family: Helvetica\, Arial\, sans-serif\; color: rgb(28\, 30\, 33)\; font-size: 14px\;">450 JOB OPPORTUNITIES!</p>\n\n<p style="margin: 6px 0px\; font-family: Helvetica\, Arial\, sans-serif\; color: rgb(28\, 30\, 33)\; font-size: 14px\;">The Harlingen Area Chamber of Commerce&nbsp\;is hosting a TWO DAY Career Fair\, Wednesday &amp\; Thursday\, August 14th &amp\; 15th from 9am-3pm!</p>\n\n<p style="margin: 6px 0px\; font-family: Helvetica\, Arial\, sans-serif\; color: rgb(28\, 30\, 33)\; font-size: 14px\;">The event will take place at the Harlingen Chamber-311 E. Tyler Avenue-Harlingen. Come interview ready!</p>\n\n<div class="text_exposed_show" style="display: inline\; font-family: Helvetica\, Arial\, sans-serif\; color: rgb(28\, 30\, 33)\; font-size: 14px\;">\n<p style="margin: 0px 0px 6px\; font-family: inherit\;">PARAPROFESSIONALS<br />\nMEDICAL ASSISTANTS<br />\nYOUTH CARE WORKERS<br />\nAND MUCH MORE!!!</p>\n\n<p style="margin: 6px 0px\; font-family: inherit\;">For more info contact the Chamber at 956.423.5440!&nbsp\;</p>\n</div>\n
LOCATION:Harlingen Area Chamber of Commerce 311 E. Tyler Avenue Harlingen\, TX 78550
UID:e.1828.15177
SEQUENCE:3
DTSTAMP:20260424T034525Z
URL:https://harlingen-nexam-gzcms.preview.gochambermaster.com/events/details/sog-international-2-day-career-fair-hosted-by-the-harlingen-chamber-of-commerce-15177
END:VEVENT

END:VCALENDAR
