BEGIN:VCALENDAR
VERSION:2.0
PRODID:-//ChamberMaster//Event Calendar 2.0//EN
METHOD:PUBLISH
X-PUBLISHED-TTL:P3D
REFRESH-INTERVAL:P3D
CALSCALE:GREGORIAN
BEGIN:VEVENT
DTSTART:20200314T003000Z
DTEND:20200314T023000Z
X-MICROSOFT-CDO-ALLDAYEVENT:FALSE
SUMMARY:Burlap to Cashmere concert
DESCRIPTION:With a unique sound and energetic live show\, Burlap to Cashmere resurrects the storied Greenwich Village scene. This Americana trio draws from many influential artists\, including Simon and Garfunkel\, James Taylor and Bob Dylan. This will be a great evening of songs from the folk music revival of the '60s\, '70s\, and beyond.
X-ALT-DESC;FMTTYPE=text/html:With a unique sound and energetic live show\, Burlap to Cashmere resurrects the storied Greenwich Village scene. This Americana trio draws from many influential artists\, including Simon and Garfunkel\, James Taylor and Bob Dylan. This will be a great evening of songs from the folk music revival of the &#39\;60s\, &lsquo\;70s\, and beyond.
LOCATION:Harlingen Municipal Auditorium\, 1204 Fair Park Blvd.
UID:e.1828.15197
SEQUENCE:3
DTSTAMP:20260422T200900Z
URL:https://harlingen-nexam-gzcms.preview.gochambermaster.com/events/details/burlap-to-cashmere-concert-15197
END:VEVENT

END:VCALENDAR
